{"text_format":"3","workbook":"xlsx","n_sheets":2,"sheets":["1 INPUT SCORES","2 RECORD FORM"],"read":"whole","date_system":"1900"}

{"sheet":"1 INPUT SCORES","index":0,"n_rows":28,"n_cols":2,"rows_kept":28,"merged":[[0,0,0,1],[27,0,27,1]]}
["ITEM INPUT LOG"]
["Directions:","Enter the assessor's response to each item on the questionnaire in the \"RECORDED SCORE\" column, then proceed to the \"RECORD FORM\" tab below."]
["ITEM","RECORDED SCORE"]
[1,"INPUT"]
[2,"INPUT"]
[3,"INPUT"]
[4,"INPUT"]
[5,"INPUT"]
[6,"INPUT"]
[7,"INPUT"]
[8,"INPUT"]
[9,"INPUT"]
[10,"INPUT"]
[11,"INPUT"]
[12,"INPUT"]
[13,"INPUT"]
[14,"INPUT"]
[15,"INPUT"]
[16,"INPUT"]
[17,"INPUT"]
[18,"INPUT"]
[19,"INPUT"]
[20,"INPUT"]
[21,"INPUT"]
[22,"INPUT"]
[23,"INPUT"]
[24,"INPUT"]
["*Note, all numerical values on \"RECORD FORM\" tab will autopopulate.  Only enter assessment information at the top of the form (i.e. Name, Date, etc.)."]

{"sheet":"2 RECORD FORM","index":1,"n_rows":28,"n_cols":13,"rows_kept":28,"merged":[[4,3,4,5],[4,7,4,9],[5,0,5,12],[6,1,7,3],[6,4,7,6],[6,7,7,8],[6,9,7,10],[6,11,7,12],[8,1,8,12],[9,0,9,12],[10,0,10,2],[10,3,10,6],[10,7,11,12],[12,7,12,8],[12,9,12,12],[13,7,13,8],[13,9,13,12],[14,7,14,8],[14,9,14,12],[15,7,15,8],[15,9,15,12],[16,0,16,2],[16,3,16,6],[16,7,16,8],[16,9,16,12],[17,7,17,8],[17,9,17,12],[18,7,18,12],[19,7,20,12],[21,7,27,12],[22,0,22,2],[22,3,22,6]]}
[]
[]
[]
[]
["Name:",null,"Date:",{"$nulls":3},"Assessor:",{"$nulls":3},"Relationship:","Family:","Provider:"]
["Directions: Input assessment information in the fields above (Name, Date, etc.).  The responder's scores for each item next to the corresponding item number in the tables are recorded below.  Items are grouped by ACT core process.  Items in grey boxes are reverse scored using the metric below. The items within each category are summed following reversal to obtain the Core Process Subtotal.  All items are summed to obtain a Psychological Flexibility Total Score.  Higher scores indicate greater psychological flexibility, while lower scores suggest greater inflexibility."]
["Reverse ","0 = 4",null,null,"1 = 3",null,null,"2 = 2",null,"3 = 1",null,"4 = 0"]
["Scoring "]
["Metric: ","[CHILD’S SELCTION] = [SCORE RECORDED]"]
[]
["PRESENT MOMENT",null,null,"SELF-AS-CONTEXT",{"$nulls":3},"CORE PROCESS SUBTOTALS:"]
["SCORE:","RECORDED","REVERSED","SCORE:",null,"RECORDED","REVERSED"]
[1,{"$f":"'1 INPUT SCORES'!B4","v":"INPUT"},{"$f":"B13","v":"INPUT"},4,null,{"$f":"'1 INPUT SCORES'!B7","v":"INPUT"},{"$f":"IF(F13=0,\"4\",IF(F13=1,\"3\",IF(F13=2,\"2\",IF(F13=3,\"1\",IF(F13=4,\"0\")))))","v":false},"PRESENT MOMENT",null,{"$f":"C13+C14+C15+C16","v":{"$error":"#VALUE!"}}]
[5,{"$f":"'1 INPUT SCORES'!B8","v":"INPUT"},{"$f":"B14","v":"INPUT"},10,null,{"$f":"'1 INPUT SCORES'!B13","v":"INPUT"},{"$f":"F14","v":"INPUT"},"ACCEPTANCE",null,{"$f":"C19+C20+C21+C22","v":{"$error":"#VALUE!"}}]
[11,{"$f":"'1 INPUT SCORES'!B14","v":"INPUT"},{"$f":"IF(B15=0,\"4\",IF(B15=1,\"3\",IF(B15=2,\"2\",IF(B15=3,\"1\",IF(B15=4,\"0\")))))","v":false},21,null,{"$f":"'1 INPUT SCORES'!B24","v":"INPUT"},{"$f":"IF(F15=0,\"4\",IF(F15=1,\"3\",IF(F15=2,\"2\",IF(F15=3,\"1\",IF(F15=4,\"0\")))))","v":false},"DEFUSION",null,{"$f":"C25+C26+C27+C28","v":{"$error":"#VALUE!"}}]
[18,{"$f":"'1 INPUT SCORES'!B21","v":"INPUT"},{"$f":"IF(B16=0,\"4\",IF(B16=1,\"3\",IF(B16=2,\"2\",IF(B16=3,\"1\",IF(B16=4,\"0\")))))","v":false},22,null,{"$f":"'1 INPUT SCORES'!B25","v":"INPUT"},{"$f":"F16","v":"INPUT"},"SELF-AS-CONTEXT",null,{"$f":"G13+G14+G15+G16","v":{"$error":"#VALUE!"}}]
["ACCEPTANCE",null,null,"VALUES",{"$nulls":3},"VALUES",null,{"$f":"G19+G20+G21+G22","v":{"$error":"#VALUE!"}}]
["SCORE:","RECORDED","REVERSED","SCORE:",null,"RECORDED","REVERSED","COMMITTED ACTION",null,{"$f":"G25+G26+G27+G28","v":{"$error":"#VALUE!"}}]
[8,{"$f":"'1 INPUT SCORES'!B11","v":"INPUT"},{"$f":"IF(B19=0,\"4\",IF(B19=1,\"3\",IF(B19=2,\"2\",IF(B19=3,\"1\",IF(B19=4,\"0\")))))","v":false},3,null,{"$f":"'1 INPUT SCORES'!B6","v":"INPUT"},{"$f":"F19","v":"INPUT"},"PSYCHOLOGICAL FLEXIBILITY TOTAL SCORE:"]
[9,{"$f":"'1 INPUT SCORES'!B12","v":"INPUT"},{"$f":"B20","v":"INPUT"},7,null,{"$f":"'1 INPUT SCORES'!B10","v":"INPUT"},{"$f":"IF(F20=0,\"4\",IF(F20=1,\"3\",IF(F20=2,\"2\",IF(F20=3,\"1\",IF(F20=4,\"0\")))))","v":false},{"$f":"J13+J14+J15+J16+J17+J18","v":{"$error":"#VALUE!"}}]
[14,{"$f":"'1 INPUT SCORES'!B17","v":"INPUT"},{"$f":"B21","v":"INPUT"},15,null,{"$f":"'1 INPUT SCORES'!B18","v":"INPUT"},{"$f":"F21","v":"INPUT"}]
[19,{"$f":"'1 INPUT SCORES'!B22","v":"INPUT"},{"$f":"IF(B22=0,\"4\",IF(B22=1,\"3\",IF(B22=2,\"2\",IF(B22=3,\"1\",IF(B22=4,\"0\")))))","v":false},23,null,{"$f":"'1 INPUT SCORES'!B26","v":"INPUT"},{"$f":"IF(F22=0,\"4\",IF(F22=1,\"3\",IF(F22=2,\"2\",IF(F22=3,\"1\",IF(F22=4,\"0\")))))","v":false},"NOTES:"]
["DEFUSION",null,null,"COMMITTED ACTION"]
["SCORE:","RECORDED","REVERSED","SCORE:",null,"RECORDED","REVERSED"]
[2,{"$f":"'1 INPUT SCORES'!B5","v":"INPUT"},{"$f":"B25","v":"INPUT"},6,null,{"$f":"'1 INPUT SCORES'!B9","v":"INPUT"},{"$f":"IF(F25=0,\"4\",IF(F25=1,\"3\",IF(F25=2,\"2\",IF(F25=3,\"1\",IF(F25=4,\"0\")))))","v":false}]
[12,{"$f":"'1 INPUT SCORES'!B15","v":"INPUT"},{"$f":"B26","v":"INPUT"},16,null,{"$f":"'1 INPUT SCORES'!B19","v":"INPUT"},{"$f":"F26","v":"INPUT"}]
[13,{"$f":"'1 INPUT SCORES'!B16","v":"INPUT"},{"$f":"IF(B27=0,\"4\",IF(B27=1,\"3\",IF(B27=2,\"2\",IF(B27=3,\"1\",IF(B27=4,\"0\")))))","v":false},17,null,{"$f":"'1 INPUT SCORES'!B20","v":"INPUT"},{"$f":"IF(F27=0,\"4\",IF(F27=1,\"3\",IF(F27=2,\"2\",IF(F27=3,\"1\",IF(F27=4,\"0\")))))","v":false}]
[20,{"$f":"'1 INPUT SCORES'!B23","v":"INPUT"},{"$f":"IF(B28=0,\"4\",IF(B28=1,\"3\",IF(B28=2,\"2\",IF(B28=3,\"1\",IF(B28=4,\"0\")))))","v":false},24,null,{"$f":"'1 INPUT SCORES'!B27","v":"INPUT"},{"$f":"F28","v":"INPUT"}]